BEGIN:VCALENDAR
VERSION:2.0
PRODID:iheid
X-WR-TIMEZONE:Europe/Zurich
BEGIN:VTIMEZONE
TZID:Europe/Zurich
X-LIC-LOCATION:Europe/Zurich
END:VTIMEZONE
BEGIN:VEVENT
UID:69e8fb09571bc
DTSTART:20230316T143000Z
SEQUENCE:0
TRANSP:OPAQUE
DTEND:20230316T160000Z
URL:https://docs.google.com/forms/d/e/1FAIpQLScz-IunMg2_4U7ksYVHbFJIhNTsvzL
 25D8X-VARN5NrChjmjw/viewform
LOCATION:Auditorium A2\, Maison de la paix\, Geneva
SUMMARY:Repatriating Foreign Fighters: Upholding Peace and Human Rights
CLASS:PUBLIC
DESCRIPTION:Repatriating Foreign Fighters: Upholding Peace and Human Rights
  by Organized in partnership with the Bulan Institute for Peace Innovation
 s\, with the support of the Geneva Graduate Institute’s International La
 w Department.\n\n\n\nEvent connection: https://docs.google.com/forms/d/e/1
 FAIpQLScz-IunMg2_4U7ksYVHbFJIhNTsvzL25D8X-VARN5NrChjmjw/viewform
DTSTAMP:20260422T184457Z
END:VEVENT
END:VCALENDAR