BEGIN:VCALENDAR
VERSION:2.0
PRODID:iheid
X-WR-TIMEZONE:Europe/Zurich
BEGIN:VTIMEZONE
TZID:Europe/Zurich
X-LIC-LOCATION:Europe/Zurich
END:VTIMEZONE
BEGIN:VEVENT
UID:69e5a51ac730d
DTSTART:20230320T080000Z
SEQUENCE:0
TRANSP:OPAQUE
DTEND:20230320T093000Z
LOCATION:The Fab\, 4th floor of petal 2\, Maison de la paix\, Geneva
SUMMARY:Democracy\, nationalism and military/civilian relations  in Pakista
 n and India
CLASS:PUBLIC
DESCRIPTION:Democracy\, nationalism and military/civilian relations  in Pak
 istan and India by .\n\n\n\nEvent connection: 
DTSTAMP:20260420T060130Z
END:VEVENT
END:VCALENDAR