BEGIN:VCALENDAR
VERSION:2.0
PRODID:iheid
X-WR-TIMEZONE:Europe/Zurich
BEGIN:VTIMEZONE
TZID:Europe/Zurich
X-LIC-LOCATION:Europe/Zurich
END:VTIMEZONE
BEGIN:VEVENT
UID:69e6bf88aabde
DTSTART:20230327T161500Z
SEQUENCE:0
TRANSP:OPAQUE
DTEND:20230327T171500Z
LOCATION:No location specified
SUMMARY:Sustainability and Impact Measurement and Reporting: Evidence from 
 a Benchmarking Study
CLASS:PUBLIC
DESCRIPTION:Sustainability and Impact Measurement and Reporting: Evidence f
 rom a Benchmarking Study by .\n\n\n\nEvent connection: 
DTSTAMP:20260421T020632Z
END:VEVENT
END:VCALENDAR