BEGIN:VCALENDAR
VERSION:2.0
PRODID:iheid
X-WR-TIMEZONE:Europe/Zurich
BEGIN:VTIMEZONE
TZID:Europe/Zurich
X-LIC-LOCATION:Europe/Zurich
END:VTIMEZONE
BEGIN:VEVENT
UID:69e5fd35843b3
DTSTART:20190430T160000Z
SEQUENCE:0
TRANSP:OPAQUE
DTEND:20190430T190000Z
LOCATION:Auditorium Ivan Pictet\, Maison de la paix\, Geneva
SUMMARY:Samba 
CLASS:PUBLIC
DESCRIPTION:Samba  by En partenariat avec Ciné ONU et le Salon du livre de
  Genève.\n\n\n\nEvent connection: 
DTSTAMP:20260420T121725Z
END:VEVENT
END:VCALENDAR