BEGIN:VCALENDAR
VERSION:2.0
PRODID:iheid
X-WR-TIMEZONE:Europe/Zurich
BEGIN:VTIMEZONE
TZID:Europe/Zurich
X-LIC-LOCATION:Europe/Zurich
END:VTIMEZONE
BEGIN:VEVENT
UID:69e693e523bd6
DTSTART:20230404T163000Z
SEQUENCE:0
TRANSP:OPAQUE
DTEND:20230404T173000Z
LOCATION:Auditorium Ivan Pictet\, Maison de la paix\, Geneva
SUMMARY:Inflation Persistence & Monetary Policy
CLASS:PUBLIC
DESCRIPTION:Inflation Persistence &amp\; Monetary Policy by Huw Pill\, Chie
 f Economist ​Executive Director for Monetary Analysis and Research\, Ban
 k of England.\n\n\n\nEvent connection: 
DTSTAMP:20260420T230021Z
END:VEVENT
END:VCALENDAR