BEGIN:VCALENDAR
VERSION:2.0
PRODID:iheid
X-WR-TIMEZONE:Europe/Zurich
BEGIN:VTIMEZONE
TZID:Europe/Zurich
X-LIC-LOCATION:Europe/Zurich
END:VTIMEZONE
BEGIN:VEVENT
UID:69e7d223efde2
DTSTART:20230413T120000Z
SEQUENCE:0
TRANSP:OPAQUE
DTEND:20230413T150000Z
URL:https://forms.gle/wpfQxhJqZ3xuQjar9
LOCATION:Hybrid: Room S8\, Petal 2 - 1st floor\, Maison de la paix\, Geneva
  Graduate Institute and online
SUMMARY:Rising Pharmaceutical Innovation in the Global South: Painting with
  New Colors
CLASS:PUBLIC
DESCRIPTION:Rising Pharmaceutical Innovation in the Global South: Painting 
 with New Colors by International Geneva Global Health Platform.\n\n\n\nEve
 nt connection: https://forms.gle/wpfQxhJqZ3xuQjar9
DTSTAMP:20260421T213811Z
END:VEVENT
END:VCALENDAR