BEGIN:VCALENDAR
VERSION:2.0
PRODID:iheid
X-WR-TIMEZONE:Europe/Zurich
BEGIN:VTIMEZONE
TZID:Europe/Zurich
X-LIC-LOCATION:Europe/Zurich
END:VTIMEZONE
BEGIN:VEVENT
UID:69e81574247be
DTSTART:20230523T150000Z
SEQUENCE:0
TRANSP:OPAQUE
DTEND:20230523T170000Z
LOCATION:Hybrid: Auditorium Ivan Pictet\, Geneva Graduate Institute\, Maiso
 n de la Paix and online
SUMMARY:Beyond Panic & Neglect: Building a Human Rights Framework for Publi
 c Health Emergency Prevention\, Preparedness and Response
CLASS:PUBLIC
DESCRIPTION:Beyond Panic &amp\; Neglect: Building a Human Rights Framework 
 for Public Health Emergency Prevention\, Preparedness and Response by Inte
 rnational Geneva Global Health Platform.\n\n\n\nEvent connection: 
DTSTAMP:20260422T022524Z
END:VEVENT
END:VCALENDAR