BEGIN:VCALENDAR
VERSION:2.0
PRODID:iheid
X-WR-TIMEZONE:Europe/Zurich
BEGIN:VTIMEZONE
TZID:Europe/Zurich
X-LIC-LOCATION:Europe/Zurich
END:VTIMEZONE
BEGIN:VEVENT
UID:69e73f4d2f2f1
DTSTART:20230426T083000Z
SEQUENCE:0
TRANSP:OPAQUE
DTEND:20230426T100000Z
LOCATION:Geneva Graduate Institute - Maison de la paix - Room A2 Chem. Eug
 ène-Rigot 2\, 1202 Genève &nbsp\;
SUMMARY:IMF World Economic Outlook Report
CLASS:PUBLIC
DESCRIPTION:IMF World Economic Outlook Report by CTEI - GTP - IMF - CDF.\n\
 n\n\nEvent connection: 
DTSTAMP:20260421T111141Z
END:VEVENT
END:VCALENDAR