BEGIN:VCALENDAR
VERSION:2.0
PRODID:iheid
X-WR-TIMEZONE:Europe/Zurich
BEGIN:VTIMEZONE
TZID:Europe/Zurich
X-LIC-LOCATION:Europe/Zurich
END:VTIMEZONE
BEGIN:VEVENT
UID:69ea8faec0e2c
DTSTART:20230615T070000Z
SEQUENCE:0
TRANSP:OPAQUE
DTEND:20230616T150000Z
LOCATION:Maison de la paix\, Chem. Eugène-Rigot 2\, 1202 Gèneve
SUMMARY:International Meeting on Research on Colombian Exile: Knowledge\, D
 ebates\, and Projections 
CLASS:PUBLIC
DESCRIPTION:International Meeting on Research on Colombian Exile: Knowledge
 \, Debates\, and Projections  by Gina Wirz-Suárez\, Jeisson Martínez-Leg
 uízamo.\n\n\n\nEvent connection: 
DTSTAMP:20260423T233126Z
END:VEVENT
END:VCALENDAR