BEGIN:VCALENDAR
VERSION:2.0
PRODID:iheid
X-WR-TIMEZONE:Europe/Zurich
BEGIN:VTIMEZONE
TZID:Europe/Zurich
X-LIC-LOCATION:Europe/Zurich
END:VTIMEZONE
BEGIN:VEVENT
UID:69e8d6158ec47
DTSTART:20230609T063000Z
SEQUENCE:0
TRANSP:OPAQUE
DTEND:20230609T140000Z
URL:https://iheid.webex.com/iheid/j.php?MTID=mabdad54dcf2ddcf2221965931a399
 ada
LOCATION:Room S5 | Maison de la paix
SUMMARY:The Remaking of the Family in East Africa
CLASS:PUBLIC
DESCRIPTION:The Remaking of the Family in East Africa by .\n\n\n\nEvent con
 nection: https://iheid.webex.com/iheid/j.php?MTID=mabdad54dcf2ddcf22219659
 31a399ada
DTSTAMP:20260422T160717Z
END:VEVENT
END:VCALENDAR