BEGIN:VCALENDAR
VERSION:2.0
PRODID:iheid
X-WR-TIMEZONE:Europe/Zurich
BEGIN:VTIMEZONE
TZID:Europe/Zurich
X-LIC-LOCATION:Europe/Zurich
END:VTIMEZONE
BEGIN:VEVENT
UID:69ec9739d5103
DTSTART:20231011T101500Z
SEQUENCE:0
TRANSP:OPAQUE
DTEND:20231011T113000Z
LOCATION:Hybrid: Auditorium Ivan Pictet\, Geneva Graduate Institute\, Maiso
 n de la paix and online.
SUMMARY:Watch: Global Health Challenges: Can investors and civil society wo
 rk together?
CLASS:PUBLIC
DESCRIPTION:Watch: Global Health Challenges: Can investors and civil societ
 y work together? by International Geneva Global Health Platform.\n\n\n\nEv
 ent connection: 
DTSTAMP:20260425T122809Z
END:VEVENT
END:VCALENDAR