BEGIN:VCALENDAR
VERSION:2.0
PRODID:iheid
X-WR-TIMEZONE:Europe/Zurich
BEGIN:VTIMEZONE
TZID:Europe/Zurich
X-LIC-LOCATION:Europe/Zurich
END:VTIMEZONE
BEGIN:VEVENT
UID:69e9373d0de14
DTSTART:20231025T130000Z
SEQUENCE:0
TRANSP:OPAQUE
DTEND:20231025T141500Z
LOCATION:No location specified
SUMMARY:Watch: Decolonising Global Health: from discourse to practice
CLASS:PUBLIC
DESCRIPTION:Watch: Decolonising Global Health: from discourse to practice b
 y International Geneva Global Health Platform.\n\n\n\nEvent connection: 
DTSTAMP:20260422T230149Z
END:VEVENT
END:VCALENDAR