BEGIN:VCALENDAR
VERSION:2.0
PRODID:iheid
X-WR-TIMEZONE:Europe/Zurich
BEGIN:VTIMEZONE
TZID:Europe/Zurich
X-LIC-LOCATION:Europe/Zurich
END:VTIMEZONE
BEGIN:VEVENT
UID:69e68f9c77712
DTSTART:20231012T141500Z
SEQUENCE:0
TRANSP:OPAQUE
DTEND:20231012T160000Z
LOCATION:Room S8\, Maison de la paix\, Geneva Graduate Institute and online
SUMMARY:Book Launch: International Organizations and Research Methods
CLASS:PUBLIC
DESCRIPTION:Book Launch: International Organizations and Research Methods b
 y .\n\n\n\nEvent connection: 
DTSTAMP:20260420T224204Z
END:VEVENT
END:VCALENDAR