BEGIN:VCALENDAR
VERSION:2.0
PRODID:iheid
X-WR-TIMEZONE:Europe/Zurich
BEGIN:VTIMEZONE
TZID:Europe/Zurich
X-LIC-LOCATION:Europe/Zurich
END:VTIMEZONE
BEGIN:VEVENT
UID:69e579b4d7e43
DTSTART:20231003T163000Z
SEQUENCE:0
TRANSP:OPAQUE
DTEND:20231013T180000Z
LOCATION:Maison de la paix\, Graduate Institute\, Geneva
SUMMARY:Democracy Week
CLASS:PUBLIC
DESCRIPTION:Democracy Week by .\n\n\n\nEvent connection: 
DTSTAMP:20260420T025620Z
END:VEVENT
END:VCALENDAR