BEGIN:VCALENDAR
VERSION:2.0
PRODID:iheid
X-WR-TIMEZONE:Europe/Zurich
BEGIN:VTIMEZONE
TZID:Europe/Zurich
X-LIC-LOCATION:Europe/Zurich
END:VTIMEZONE
BEGIN:VEVENT
UID:69ec94ce2ae0b
DTSTART:20231010T141500Z
SEQUENCE:0
TRANSP:OPAQUE
DTEND:20231010T160000Z
LOCATION:Room S12\, Maison de la paix\, Geneva Graduate Institute
SUMMARY:Looping for Human Rights: an Ethnographic Theory of Expansion
CLASS:PUBLIC
DESCRIPTION:Looping for Human Rights: an Ethnographic Theory of Expansion b
 y Miia Halme-Tuomisaari\, Lund University.\n\n\n\nEvent connection: 
DTSTAMP:20260425T121750Z
END:VEVENT
END:VCALENDAR