BEGIN:VCALENDAR
VERSION:2.0
PRODID:iheid
X-WR-TIMEZONE:Europe/Zurich
BEGIN:VTIMEZONE
TZID:Europe/Zurich
X-LIC-LOCATION:Europe/Zurich
END:VTIMEZONE
BEGIN:VEVENT
UID:69e5958ba00bd
DTSTART:20231003T163027Z
SEQUENCE:0
TRANSP:OPAQUE
DTEND:20231003T180027Z
LOCATION:Auditorium A2\, Maison de la paix\, Geneva Graduate Institute
SUMMARY:Renewing Local Democracy Through and With Youth
CLASS:PUBLIC
DESCRIPTION:Renewing Local Democracy Through and With Youth by Christina Ki
 tsos\; Andrea Tobia Zevi.\n\n\n\nEvent connection: 
DTSTAMP:20260420T045507Z
END:VEVENT
END:VCALENDAR