BEGIN:VCALENDAR
VERSION:2.0
PRODID:iheid
X-WR-TIMEZONE:Europe/Zurich
BEGIN:VTIMEZONE
TZID:Europe/Zurich
X-LIC-LOCATION:Europe/Zurich
END:VTIMEZONE
BEGIN:VEVENT
UID:69e595ba93702
DTSTART:20231009T100034Z
SEQUENCE:0
TRANSP:OPAQUE
DTEND:20231009T120034Z
LOCATION:Rue de l'Hôtel-de-Ville 2\, Genève
SUMMARY:How does Swiss democracy work? An interactive visit to Geneva's Hot
 el de Ville
CLASS:PUBLIC
DESCRIPTION:How does Swiss democracy work? An interactive visit to Geneva&#
 039\;s Hotel de Ville by .\n\n\n\nEvent connection: 
DTSTAMP:20260420T045554Z
END:VEVENT
END:VCALENDAR