BEGIN:VCALENDAR
VERSION:2.0
PRODID:iheid
X-WR-TIMEZONE:Europe/Zurich
BEGIN:VTIMEZONE
TZID:Europe/Zurich
X-LIC-LOCATION:Europe/Zurich
END:VTIMEZONE
BEGIN:VEVENT
UID:69e595ba36678
DTSTART:20231010T164500Z
SEQUENCE:0
TRANSP:OPAQUE
DTEND:20231010T180000Z
LOCATION:Pavillon Sicli\, Route des Acacias 45\, 1227 Genève
SUMMARY:Experimenting Citizens Assemblies in Belgium\, France and Switzerla
 nd
CLASS:PUBLIC
DESCRIPTION:Experimenting Citizens Assemblies in Belgium\, France and Switz
 erland by DEBAT avec Frédéric Josselin\, Bernard Reber\, Ann-Mireille Sa
 utter et Yanina Welp (FR/EN).\n\n\n\nEvent connection: 
DTSTAMP:20260420T045554Z
END:VEVENT
END:VCALENDAR