BEGIN:VCALENDAR
VERSION:2.0
PRODID:iheid
X-WR-TIMEZONE:Europe/Zurich
BEGIN:VTIMEZONE
TZID:Europe/Zurich
X-LIC-LOCATION:Europe/Zurich
END:VTIMEZONE
BEGIN:VEVENT
UID:69e98fd7c8fed
DTSTART:20230927T120000Z
SEQUENCE:0
TRANSP:OPAQUE
DTEND:20230927T143000Z
LOCATION:Auditorium Ivan Pictet\, Maison de la paix\, Geneva
SUMMARY:Women\, Power\, and Cancer: A Lancet Commission
CLASS:PUBLIC
DESCRIPTION:Women\, Power\, and Cancer: A Lancet Commission by .\n\n\n\nEve
 nt connection: 
DTSTAMP:20260423T051951Z
END:VEVENT
END:VCALENDAR