BEGIN:VCALENDAR
VERSION:2.0
PRODID:iheid
X-WR-TIMEZONE:Europe/Zurich
BEGIN:VTIMEZONE
TZID:Europe/Zurich
X-LIC-LOCATION:Europe/Zurich
END:VTIMEZONE
BEGIN:VEVENT
UID:69e8f2ee5f7dd
DTSTART:20231016T161500Z
SEQUENCE:0
TRANSP:OPAQUE
DTEND:20231016T180000Z
LOCATION:Maison de la paix\, Ch. Eugène Rigot\, 2\, 1202 Geneva (room S11\
 , at the Fab)
SUMMARY:Impact Seminar on Effective Altruism (E.A.) - Introductory Session
CLASS:PUBLIC
DESCRIPTION:Impact Seminar on Effective Altruism (E.A.) - Introductory Sess
 ion by Find the best ways to help others\, and put them into practice..\n\
 n\n\nEvent connection: 
DTSTAMP:20260422T181022Z
END:VEVENT
END:VCALENDAR