BEGIN:VCALENDAR
VERSION:2.0
PRODID:iheid
X-WR-TIMEZONE:Europe/Zurich
BEGIN:VTIMEZONE
TZID:Europe/Zurich
X-LIC-LOCATION:Europe/Zurich
END:VTIMEZONE
BEGIN:VEVENT
UID:69e900a801e9a
DTSTART:20231002T070000Z
SEQUENCE:0
TRANSP:OPAQUE
DTEND:20231002T080000Z
LOCATION:The Fab\,&nbsp\; Petal 2\, 4th floor\, Maison de la paix\, Geneva
SUMMARY:Futures of Afghanistan
CLASS:PUBLIC
DESCRIPTION:Futures of Afghanistan by .\n\n\n\nEvent connection: 
DTSTAMP:20260422T190856Z
END:VEVENT
END:VCALENDAR