BEGIN:VCALENDAR
VERSION:2.0
PRODID:iheid
X-WR-TIMEZONE:Europe/Zurich
BEGIN:VTIMEZONE
TZID:Europe/Zurich
X-LIC-LOCATION:Europe/Zurich
END:VTIMEZONE
BEGIN:VEVENT
UID:69e9b2ca9d78d
DTSTART:20240422T101511Z
SEQUENCE:0
TRANSP:OPAQUE
DTEND:20240422T113011Z
URL:https://iheid.webex.com/iheid/j.php?MTID=m614fcc64b8c29910448b7d35bfef4
 c2c
LOCATION:Room S06 and online\, Maison de la paix\, Geneva
SUMMARY:ONE LIFE\, MANY WORLDS: A MID-CENTURY MIGRANT’S JOURNEYS
CLASS:PUBLIC
DESCRIPTION:ONE LIFE\, MANY WORLDS: A MID-CENTURY MIGRANT’S JOURNEYS by P
 rof. Elizabeth Buettner.\n\n\n\nEvent connection: https://iheid.webex.com/
 iheid/j.php?MTID=m614fcc64b8c29910448b7d35bfef4c2c
DTSTAMP:20260423T074858Z
END:VEVENT
END:VCALENDAR