BEGIN:VCALENDAR
VERSION:2.0
PRODID:iheid
X-WR-TIMEZONE:Europe/Zurich
BEGIN:VTIMEZONE
TZID:Europe/Zurich
X-LIC-LOCATION:Europe/Zurich
END:VTIMEZONE
BEGIN:VEVENT
UID:69e6758834c7f
DTSTART:20231010T163000Z
SEQUENCE:0
TRANSP:OPAQUE
DTEND:20231010T190000Z
URL:https://iheid.webex.com/weblink/register/r1b74a6a88e293388caeca21ceecde
 390
LOCATION:Maison de la paix\, Geneva | Room A2 and online
SUMMARY:The Mind Game
CLASS:PUBLIC
DESCRIPTION:The Mind Game by .\n\n\n\nEvent connection: https://iheid.webex
 .com/weblink/register/r1b74a6a88e293388caeca21ceecde390
DTSTAMP:20260420T205048Z
END:VEVENT
END:VCALENDAR