BEGIN:VCALENDAR
VERSION:2.0
PRODID:iheid
X-WR-TIMEZONE:Europe/Zurich
BEGIN:VTIMEZONE
TZID:Europe/Zurich
X-LIC-LOCATION:Europe/Zurich
END:VTIMEZONE
BEGIN:VEVENT
UID:69e6b792cf85c
DTSTART:20231026T163000Z
SEQUENCE:0
TRANSP:OPAQUE
DTEND:20231026T180000Z
LOCATION:| Auditorium A2 | Maison de la paix
SUMMARY:Regulating Sustainable Supply Chains for a “Green transition”? 
 Possibilities and limits of due diligence policies for lithium-ion batteri
 es
CLASS:PUBLIC
DESCRIPTION:Regulating Sustainable Supply Chains for a “Green transition
 ”? Possibilities and limits of due diligence policies for lithium-ion ba
 tteries by .\n\n\n\nEvent connection: 
DTSTAMP:20260421T013234Z
END:VEVENT
END:VCALENDAR