BEGIN:VCALENDAR
VERSION:2.0
PRODID:iheid
X-WR-TIMEZONE:Europe/Zurich
BEGIN:VTIMEZONE
TZID:Europe/Zurich
X-LIC-LOCATION:Europe/Zurich
END:VTIMEZONE
BEGIN:VEVENT
UID:69e7ae2153b79
DTSTART:20231023T103000Z
SEQUENCE:0
TRANSP:OPAQUE
DTEND:20231023T120000Z
LOCATION:Auditorium A2\, Petale 2\, Maison de la paix
SUMMARY:Dalberg Global Development Advisors
CLASS:PUBLIC
DESCRIPTION:Dalberg Global Development Advisors by .\n\n\n\nEvent connectio
 n: 
DTSTAMP:20260421T190433Z
END:VEVENT
END:VCALENDAR