BEGIN:VCALENDAR
VERSION:2.0
PRODID:iheid
X-WR-TIMEZONE:Europe/Zurich
BEGIN:VTIMEZONE
TZID:Europe/Zurich
X-LIC-LOCATION:Europe/Zurich
END:VTIMEZONE
BEGIN:VEVENT
UID:69e4e78bcb242
DTSTART:20231114T170000Z
SEQUENCE:0
TRANSP:OPAQUE
DTEND:20231114T193000Z
LOCATION:Auditorium Ivan Pictet\, Maison de la paix\, Geneva
SUMMARY:MIDWIVES
CLASS:PUBLIC
DESCRIPTION:MIDWIVES by .\n\n\n\nEvent connection: 
DTSTAMP:20260419T163243Z
END:VEVENT
END:VCALENDAR