BEGIN:VCALENDAR
VERSION:2.0
PRODID:iheid
X-WR-TIMEZONE:Europe/Zurich
BEGIN:VTIMEZONE
TZID:Europe/Zurich
X-LIC-LOCATION:Europe/Zurich
END:VTIMEZONE
BEGIN:VEVENT
UID:69e65a146d3b5
DTSTART:20231109T171500Z
SEQUENCE:0
TRANSP:OPAQUE
DTEND:20231109T183000Z
LOCATION:Auditorium A2\, Maison de la paix\, Geneva Graduate Institute
SUMMARY:Fires All Around: Why Do Climate Change Politics Grow More Contenti
 ous and Politicized\, Despite Increased Scientific Certainty and Public Aw
 areness
CLASS:PUBLIC
DESCRIPTION:Fires All Around: Why Do Climate Change Politics Grow More Cont
 entious and Politicized\, Despite Increased Scientific Certainty and Publi
 c Awareness by Professor Stacy VanDeveer.\n\n\n\nEvent connection: 
DTSTAMP:20260420T185340Z
END:VEVENT
END:VCALENDAR