BEGIN:VCALENDAR
VERSION:2.0
PRODID:iheid
X-WR-TIMEZONE:Europe/Zurich
BEGIN:VTIMEZONE
TZID:Europe/Zurich
X-LIC-LOCATION:Europe/Zurich
END:VTIMEZONE
BEGIN:VEVENT
UID:69e97928ac009
DTSTART:20231030T113000Z
SEQUENCE:0
TRANSP:OPAQUE
DTEND:20231030T123000Z
LOCATION:Auditorium Ivan Pictet B\, Maison de la paix\, Geneva
SUMMARY:QUESTIONS OF INTERNATIONAL LAW RELATED TO THE ONGOING ARMED CONFLIC
 T BETWEEN HAMAS AND ISRAEL 
CLASS:PUBLIC
DESCRIPTION:QUESTIONS OF INTERNATIONAL LAW RELATED TO THE ONGOING ARMED CON
 FLICT BETWEEN HAMAS AND ISRAEL  by With Professor Andrew Clapham. Discussa
 nt: Dr Annyssa Bellal.\n\n\n\nEvent connection: 
DTSTAMP:20260423T034304Z
END:VEVENT
END:VCALENDAR