BEGIN:VCALENDAR
VERSION:2.0
PRODID:iheid
X-WR-TIMEZONE:Europe/Zurich
BEGIN:VTIMEZONE
TZID:Europe/Zurich
X-LIC-LOCATION:Europe/Zurich
END:VTIMEZONE
BEGIN:VEVENT
UID:69e9ea7929fe0
DTSTART:20231120T173000Z
SEQUENCE:0
TRANSP:OPAQUE
DTEND:20231120T193000Z
LOCATION:Université de Genève\, Uni Dufour\, auditoire U600
SUMMARY:Minorités et sociétés plurielles : Comment conjuguer l’univers
 alité et la diversité ?
CLASS:PUBLIC
DESCRIPTION:Minorités et sociétés plurielles : Comment conjuguer l’uni
 versalité et la diversité ? by Prof. Nicolas Levrat\, rapporteur spécia
 l sur les questions relatives aux minorités nationales.\n\n\n\nEvent conn
 ection: 
DTSTAMP:20260423T114633Z
END:VEVENT
END:VCALENDAR