BEGIN:VCALENDAR
VERSION:2.0
PRODID:iheid
X-WR-TIMEZONE:Europe/Zurich
BEGIN:VTIMEZONE
TZID:Europe/Zurich
X-LIC-LOCATION:Europe/Zurich
END:VTIMEZONE
BEGIN:VEVENT
UID:69eba3f728e62
DTSTART:20231208T073000Z
SEQUENCE:0
TRANSP:OPAQUE
DTEND:20231208T090000Z
LOCATION:Maison de la paix\, Petale 2\, S7
SUMMARY:IMF is coming to the Institute!
CLASS:PUBLIC
DESCRIPTION:IMF is coming to the Institute! by Corinne Delechat\, Mohamed M
 etwally.\n\n\n\nEvent connection: 
DTSTAMP:20260424T191015Z
END:VEVENT
END:VCALENDAR