BEGIN:VCALENDAR
VERSION:2.0
PRODID:iheid
X-WR-TIMEZONE:Europe/Zurich
BEGIN:VTIMEZONE
TZID:Europe/Zurich
X-LIC-LOCATION:Europe/Zurich
END:VTIMEZONE
BEGIN:VEVENT
UID:69e4f53df423d
DTSTART:20231212T173000Z
SEQUENCE:0
TRANSP:OPAQUE
DTEND:20231212T193000Z
LOCATION:Maison de la paix\, Geneva\, Auditorium Ivan Pictet Part B (A1B)
SUMMARY:PROMOTING EVIDENCE-BASED IMPLEMENTATION OF THE Global Compact on Re
 fugees THROUGH TEACHING\, RESEARCH AND SOLIDARITY
CLASS:PUBLIC
DESCRIPTION:PROMOTING EVIDENCE-BASED IMPLEMENTATION OF THE Global Compact o
 n Refugees THROUGH TEACHING\, RESEARCH AND SOLIDARITY by .\n\n\n\nEvent co
 nnection: 
DTSTAMP:20260419T173110Z
END:VEVENT
END:VCALENDAR