BEGIN:VCALENDAR
VERSION:2.0
PRODID:iheid
X-WR-TIMEZONE:Europe/Zurich
BEGIN:VTIMEZONE
TZID:Europe/Zurich
X-LIC-LOCATION:Europe/Zurich
END:VTIMEZONE
BEGIN:VEVENT
UID:69e8f32c9a474
DTSTART:20240321T120000Z
SEQUENCE:0
TRANSP:OPAQUE
DTEND:20240321T133000Z
LOCATION:Online
SUMMARY:Book Launch: Strategic Litigation and Corporate Complicity in Crime
 s Under International Law – A TWAIL Analysis 
CLASS:PUBLIC
DESCRIPTION:Book Launch: Strategic Litigation and Corporate Complicity in C
 rimes Under International Law – A TWAIL Analysis  by Kalika Mehta.\n\n\n
 \nEvent connection: 
DTSTAMP:20260422T181124Z
END:VEVENT
END:VCALENDAR