BEGIN:VCALENDAR
VERSION:2.0
PRODID:iheid
X-WR-TIMEZONE:Europe/Zurich
BEGIN:VTIMEZONE
TZID:Europe/Zurich
X-LIC-LOCATION:Europe/Zurich
END:VTIMEZONE
BEGIN:VEVENT
UID:69e7beaa89cd4
DTSTART:20240219T113000Z
SEQUENCE:0
TRANSP:OPAQUE
DTEND:20240219T123000Z
LOCATION:The Fab\, petal 2 - 4th floor\, Maison de la paix\, Geneva Graduat
 e Institute
SUMMARY:Research Café with Naomi Burke-Shyne
CLASS:PUBLIC
DESCRIPTION:Research Café with Naomi Burke-Shyne by Naomi Burke-Shyne\, Gl
 obal Health Centre.\n\n\n\nEvent connection: 
DTSTAMP:20260421T201506Z
END:VEVENT
END:VCALENDAR