BEGIN:VCALENDAR
VERSION:2.0
PRODID:iheid
X-WR-TIMEZONE:Europe/Zurich
BEGIN:VTIMEZONE
TZID:Europe/Zurich
X-LIC-LOCATION:Europe/Zurich
END:VTIMEZONE
BEGIN:VEVENT
UID:69e8ad7f95281
DTSTART:20240228T193000Z
SEQUENCE:0
TRANSP:OPAQUE
DTEND:20240228T213000Z
LOCATION:Les Cinémas Du Grütli - Rue du Général-Dufour 16 - 1204 Genèv
 e
SUMMARY:Technology & the future of our societies - Yves
CLASS:PUBLIC
DESCRIPTION:Technology &amp\; the future of our societies - Yves by .\n\n\n
 \nEvent connection: 
DTSTAMP:20260422T131407Z
END:VEVENT
END:VCALENDAR