BEGIN:VCALENDAR
VERSION:2.0
PRODID:iheid
X-WR-TIMEZONE:Europe/Zurich
BEGIN:VTIMEZONE
TZID:Europe/Zurich
X-LIC-LOCATION:Europe/Zurich
END:VTIMEZONE
BEGIN:VEVENT
UID:69e8ac3ccea7d
DTSTART:20240314T123000Z
SEQUENCE:0
TRANSP:OPAQUE
DTEND:20240314T133000Z
LOCATION:Online
SUMMARY:Book Launch: Sovereignty\, International Law\, and the Princely Sta
 tes of Colonial South Asia 
CLASS:PUBLIC
DESCRIPTION:Book Launch: Sovereignty\, International Law\, and the Princely
  States of Colonial South Asia  by Priyasha Saksena.\n\n\n\nEvent connecti
 on: 
DTSTAMP:20260422T130844Z
END:VEVENT
END:VCALENDAR