BEGIN:VCALENDAR
VERSION:2.0
PRODID:iheid
X-WR-TIMEZONE:Europe/Zurich
BEGIN:VTIMEZONE
TZID:Europe/Zurich
X-LIC-LOCATION:Europe/Zurich
END:VTIMEZONE
BEGIN:VEVENT
UID:69e9373defcd2
DTSTART:20240122T170000Z
SEQUENCE:0
TRANSP:OPAQUE
DTEND:20240122T190000Z
LOCATION:Auditorium A2 and online\, Maison de la paix\, Geneva
SUMMARY:Grassroots Forum on Migration Governance
CLASS:PUBLIC
DESCRIPTION:Grassroots Forum on Migration Governance by .\n\n\n\nEvent conn
 ection: 
DTSTAMP:20260422T230149Z
END:VEVENT
END:VCALENDAR