BEGIN:VCALENDAR
VERSION:2.0
PRODID:iheid
X-WR-TIMEZONE:Europe/Zurich
BEGIN:VTIMEZONE
TZID:Europe/Zurich
X-LIC-LOCATION:Europe/Zurich
END:VTIMEZONE
BEGIN:VEVENT
UID:69eabdf00f0b6
DTSTART:20240325T120000Z
SEQUENCE:0
TRANSP:OPAQUE
DTEND:20240325T133000Z
LOCATION:Online
SUMMARY:Book Launch: Decolonisation\, Anti-Racism\, and Legal Pedagogy
CLASS:PUBLIC
DESCRIPTION:Book Launch: Decolonisation\, Anti-Racism\, and Legal Pedagogy 
 by Foluke Adebisi\, Suhraiya Jivraj\, Ntina Tzouvala.\n\n\n\nEvent conne
 ction: 
DTSTAMP:20260424T024848Z
END:VEVENT
END:VCALENDAR