BEGIN:VCALENDAR
VERSION:2.0
PRODID:iheid
X-WR-TIMEZONE:Europe/Zurich
BEGIN:VTIMEZONE
TZID:Europe/Zurich
X-LIC-LOCATION:Europe/Zurich
END:VTIMEZONE
BEGIN:VEVENT
UID:69e8b6eaab0ce
DTSTART:20240215T170000Z
SEQUENCE:0
TRANSP:OPAQUE
DTEND:20240215T180000Z
LOCATION:Auditorium Ivan Pictet | Maison de la paix\, Geneva
SUMMARY:How can International Geneva advance social justice?
CLASS:PUBLIC
DESCRIPTION:How can International Geneva advance social justice? by .\n\n\n
 \nEvent connection: 
DTSTAMP:20260422T135418Z
END:VEVENT
END:VCALENDAR