BEGIN:VCALENDAR
VERSION:2.0
PRODID:iheid
X-WR-TIMEZONE:Europe/Zurich
BEGIN:VTIMEZONE
TZID:Europe/Zurich
X-LIC-LOCATION:Europe/Zurich
END:VTIMEZONE
BEGIN:VEVENT
UID:69e88f06d752a
DTSTART:20240227T090000Z
SEQUENCE:0
TRANSP:OPAQUE
DTEND:20240227T100000Z
LOCATION:Auditorium A2 of the Maison de la Paix&nbsp\; &nbsp\;
SUMMARY:Regulating the Internet to Support Democracy 
CLASS:PUBLIC
DESCRIPTION:Regulating the Internet to Support Democracy  by .\n\n\n\nEvent
  connection: 
DTSTAMP:20260422T110406Z
END:VEVENT
END:VCALENDAR