BEGIN:VCALENDAR
VERSION:2.0
PRODID:iheid
X-WR-TIMEZONE:Europe/Zurich
BEGIN:VTIMEZONE
TZID:Europe/Zurich
X-LIC-LOCATION:Europe/Zurich
END:VTIMEZONE
BEGIN:VEVENT
UID:69ebcce2769a9
DTSTART:20240411T110000Z
SEQUENCE:0
TRANSP:OPAQUE
DTEND:20240411T121500Z
LOCATION:Auditorium A1A\, Maison de la paix\, Geneva
SUMMARY:Geopolitical Gambit: Navigating the Impact on Global Economics
CLASS:PUBLIC
DESCRIPTION:Geopolitical Gambit: Navigating the Impact on Global Economics 
 by Conference with Swiss Federal Councillor Karin Keller-Sutter.\n\n\n\nEv
 ent connection: 
DTSTAMP:20260424T220450Z
END:VEVENT
END:VCALENDAR