BEGIN:VCALENDAR
VERSION:2.0
PRODID:iheid
X-WR-TIMEZONE:Europe/Zurich
BEGIN:VTIMEZONE
TZID:Europe/Zurich
X-LIC-LOCATION:Europe/Zurich
END:VTIMEZONE
BEGIN:VEVENT
UID:69e7ae221394e
DTSTART:20240305T131500Z
SEQUENCE:0
TRANSP:OPAQUE
DTEND:20240305T143000Z
LOCATION:Geneva Graduate Institute\, Maison de la paix\, Room S4
SUMMARY: International Lending in War and Peace\, 1790-2020
CLASS:PUBLIC
DESCRIPTION: International Lending in War and Peace\, 1790-2020 by Christop
 h Trebesch\, Kiel University.\n\n\n\nEvent connection: 
DTSTAMP:20260421T190434Z
END:VEVENT
END:VCALENDAR