BEGIN:VCALENDAR
VERSION:2.0
PRODID:iheid
X-WR-TIMEZONE:Europe/Zurich
BEGIN:VTIMEZONE
TZID:Europe/Zurich
X-LIC-LOCATION:Europe/Zurich
END:VTIMEZONE
BEGIN:VEVENT
UID:69ebcce2b0e11
DTSTART:20240326T113000Z
SEQUENCE:0
TRANSP:OPAQUE
DTEND:20240326T123000Z
LOCATION:Auditorium Ivan Pictet A\, Maison de la paix and online
SUMMARY:The Gaza War: Regional and Global Dimensions
CLASS:PUBLIC
DESCRIPTION:The Gaza War: Regional and Global Dimensions by Cyrus Schayegh\
 , Professor of International History and Politics.\n\n\n\nEvent connection
 : 
DTSTAMP:20260424T220450Z
END:VEVENT
END:VCALENDAR