BEGIN:VCALENDAR
VERSION:2.0
PRODID:iheid
X-WR-TIMEZONE:Europe/Zurich
BEGIN:VTIMEZONE
TZID:Europe/Zurich
X-LIC-LOCATION:Europe/Zurich
END:VTIMEZONE
BEGIN:VEVENT
UID:69ec0c0acad22
DTSTART:20240410T160000Z
SEQUENCE:0
TRANSP:OPAQUE
DTEND:20240410T170000Z
LOCATION:Auditorium Ivan Pictet | Maison de la paix\, Geneva
SUMMARY:HOMMAGE À CORNELIO SOMMARUGA
CLASS:PUBLIC
DESCRIPTION:HOMMAGE À CORNELIO SOMMARUGA by .\n\n\n\nEvent connection: 
DTSTAMP:20260425T023418Z
END:VEVENT
END:VCALENDAR