BEGIN:VCALENDAR
VERSION:2.0
PRODID:iheid
X-WR-TIMEZONE:Europe/Zurich
BEGIN:VTIMEZONE
TZID:Europe/Zurich
X-LIC-LOCATION:Europe/Zurich
END:VTIMEZONE
BEGIN:VEVENT
UID:69ec9ecf13fb0
DTSTART:20240526T090000Z
SEQUENCE:0
TRANSP:OPAQUE
DTEND:20240526T110000Z
LOCATION:Hybrid: Auditorium Ivan Pictet\, Geneva Graduate Institute\, Maiso
 n de la paix and livestreamed here.
SUMMARY:Watch: Introduction to the 77th World Health Assembly: Addressing H
 ealth Challenges in an Increasingly Polarized World
CLASS:PUBLIC
DESCRIPTION:Watch: Introduction to the 77th World Health Assembly: Addressi
 ng Health Challenges in an Increasingly Polarized World by International G
 eneva Global Health Platform.\n\n\n\nEvent connection: 
DTSTAMP:20260425T130031Z
END:VEVENT
END:VCALENDAR