BEGIN:VCALENDAR
VERSION:2.0
PRODID:iheid
X-WR-TIMEZONE:Europe/Zurich
BEGIN:VTIMEZONE
TZID:Europe/Zurich
X-LIC-LOCATION:Europe/Zurich
END:VTIMEZONE
BEGIN:VEVENT
UID:69ed869e71561
DTSTART:20240513T100000Z
SEQUENCE:0
TRANSP:OPAQUE
DTEND:20240513T110000Z
LOCATION:Design Room\,&nbsp\;HEAD – Genève\,&nbsp\;Bâtiment H\,&nbsp\;A
 v. de Châtelaine 7
SUMMARY:Humility and Autonomy: Two Lessons from Humanitarian Shelter Design
CLASS:PUBLIC
DESCRIPTION:Humility and Autonomy: Two Lessons from Humanitarian Shelter De
 sign by Tom Scott-Smith (Oxford University).\n\n\n\nEvent connection: 
DTSTAMP:20260426T052934Z
END:VEVENT
END:VCALENDAR