BEGIN:VCALENDAR
VERSION:2.0
PRODID:iheid
X-WR-TIMEZONE:Europe/Zurich
BEGIN:VTIMEZONE
TZID:Europe/Zurich
X-LIC-LOCATION:Europe/Zurich
END:VTIMEZONE
BEGIN:VEVENT
UID:69ece315e6b05
DTSTART:20240517T100000Z
SEQUENCE:0
TRANSP:OPAQUE
DTEND:20240517T120000Z
LOCATION:Auditorium A2\, Maison de la paix
SUMMARY:Curbing the Trade in Policing Equipment to Rights Abusers: How to M
 ake a Torture-Free Trade Treaty Effective
CLASS:PUBLIC
DESCRIPTION:Curbing the Trade in Policing Equipment to Rights Abusers: How 
 to Make a Torture-Free Trade Treaty Effective by Ezgi Yildiz\, California 
 State University\, Long Beach.\n\n\n\nEvent connection: 
DTSTAMP:20260425T175149Z
END:VEVENT
END:VCALENDAR