BEGIN:VCALENDAR
VERSION:2.0
PRODID:iheid
X-WR-TIMEZONE:Europe/Zurich
BEGIN:VTIMEZONE
TZID:Europe/Zurich
X-LIC-LOCATION:Europe/Zurich
END:VTIMEZONE
BEGIN:VEVENT
UID:69e8201b8c566
DTSTART:20240524T113000Z
SEQUENCE:0
TRANSP:OPAQUE
DTEND:20240524T163000Z
LOCATION:Auditorium Ivan Pictet\, Geneva Graduate Institute
SUMMARY:Commemoration of the 75th anniversary of the UN International Law C
 ommission
CLASS:PUBLIC
DESCRIPTION:Commemoration of the 75th anniversary of the UN International L
 aw Commission by Organised by the International Law Department.\n\n\n\nEve
 nt connection: 
DTSTAMP:20260422T031051Z
END:VEVENT
END:VCALENDAR