BEGIN:VCALENDAR
VERSION:2.0
PRODID:iheid
X-WR-TIMEZONE:Europe/Zurich
BEGIN:VTIMEZONE
TZID:Europe/Zurich
X-LIC-LOCATION:Europe/Zurich
END:VTIMEZONE
BEGIN:VEVENT
UID:69ead0f7d02f5
DTSTART:20241126T173000Z
SEQUENCE:0
TRANSP:OPAQUE
DTEND:20241126T190000Z
LOCATION:Auditorium Ivan Pictet\, Maison de la paix\, Geneva
SUMMARY:Sans transition. Une nouvelle histoire de l’énergie
CLASS:PUBLIC
DESCRIPTION:Sans transition. Une nouvelle histoire de l’énergie by .\n\n
 \n\nEvent connection: 
DTSTAMP:20260424T040959Z
END:VEVENT
END:VCALENDAR