BEGIN:VCALENDAR
VERSION:2.0
PRODID:iheid
X-WR-TIMEZONE:Europe/Zurich
BEGIN:VTIMEZONE
TZID:Europe/Zurich
X-LIC-LOCATION:Europe/Zurich
END:VTIMEZONE
BEGIN:VEVENT
UID:69e8b6c270988
DTSTART:20240904T130000Z
SEQUENCE:0
TRANSP:OPAQUE
DTEND:20240904T150000Z
URL:https://iheid.webex.com/iheid/j.php?MTID=ma06b62849f1a7be6ef3a4cd805ff8
 665
LOCATION:Maison de la paix\, Room S9\, Pétale 2\, Chemin Eugène-Rigot 2an
 d Online via Cisco Webex
SUMMARY:Prefiguration and GIS Interfaces: Affects\, Politics and  Decision-
 Making
CLASS:PUBLIC
DESCRIPTION:Prefiguration and GIS Interfaces: Affects\, Politics and  Decis
 ion-Making by Pedro Dos Santos Maia.\n\n\n\nEvent connection: https://ihei
 d.webex.com/iheid/j.php?MTID=ma06b62849f1a7be6ef3a4cd805ff8665
DTSTAMP:20260422T135338Z
END:VEVENT
END:VCALENDAR