BEGIN:VCALENDAR
VERSION:2.0
PRODID:iheid
X-WR-TIMEZONE:Europe/Zurich
BEGIN:VTIMEZONE
TZID:Europe/Zurich
X-LIC-LOCATION:Europe/Zurich
END:VTIMEZONE
BEGIN:VEVENT
UID:69e8bfaedda88
DTSTART:20240904T093000Z
SEQUENCE:0
TRANSP:OPAQUE
DTEND:20240904T110000Z
URL:https://iheid.webex.com/iheid/j.php?MTID=mfc43715a48675c41e340f946e2900
 3f8
LOCATION:National University for Advanced Legal Studies\, Kochi\, Kerala\, 
 India and online.
SUMMARY:MAKING SENSE OF SOCIAL HIERARCHIES IN INTERNATIONAL LAW
CLASS:PUBLIC
DESCRIPTION:MAKING SENSE OF SOCIAL HIERARCHIES IN INTERNATIONAL LAW by .\n\
 n\n\nEvent connection: https://iheid.webex.com/iheid/j.php?MTID=mfc43715a4
 8675c41e340f946e29003f8
DTSTAMP:20260422T143142Z
END:VEVENT
END:VCALENDAR